BEGIN:VCALENDAR
VERSION:2.0
PRODID:-//RIGHTHERE//CALENDARIZE IT V3.2//EN
BEGIN:VEVENT
UID:6093-events@snowlabpri.ru
DTSTART;VALUE=DATE:20221212
DTEND;VALUE=DATE:20221217
SUMMARY:Freeride №11: Мест нет
URL:https://snowlabpri.ru/events/freeride-11-mest-net-3/
END:VEVENT
END:VCALENDAR