BEGIN:VCALENDAR
VERSION:2.0
PRODID:-//RIGHTHERE//CALENDARIZE IT V3.2//EN
BEGIN:VEVENT
UID:6109-events@snowlabpri.ru
DTSTART;VALUE=DATE:20221230
DTEND;VALUE=DATE:20230104
SUMMARY:Freeride №18: 14 Мест
URL:https://snowlabpri.ru/events/freeride-18-mest-net-2/
END:VEVENT
END:VCALENDAR