BEGIN:VCALENDAR
VERSION:2.0
PRODID:-//RIGHTHERE//CALENDARIZE IT V3.2//EN
BEGIN:VEVENT
UID:6148-events@snowlabpri.ru
DTSTART;VALUE=DATE:20230306
DTEND;VALUE=DATE:20230311
SUMMARY:Freeride №37: Мест нет
URL:https://snowlabpri.ru/events/freeride-37-mest-net/
END:VEVENT
END:VCALENDAR