BEGIN:VCALENDAR
VERSION:2.0
PRODID:-//RIGHTHERE//CALENDARIZE IT V3.2//EN
BEGIN:VEVENT
UID:6211-events@snowlabpri.ru
DTSTART;VALUE=DATE:20230204
DTEND;VALUE=DATE:20230206
SUMMARY:FREERIDE-weekend №24: Мест нет
URL:https://snowlabpri.ru/events/freeride-weekend-24-14-mest/
END:VEVENT
END:VCALENDAR